BEGIN:VCALENDAR
PRODID:-//AT Content Types//AT Event//EN
VERSION:2.0
METHOD:PUBLISH
BEGIN:VEVENT
DTSTAMP:20260423T142221Z
CREATED:20200622T153112Z
UID:ATEvent-17f05ab1b7a34eac85355e1f521b5f69
LAST-MODIFIED:20200622T153112Z
SUMMARY:Southern Series Barrel Racing
DTSTART:20200626T130000Z
DTEND:20200626T210000Z
LOCATION:FENCE Equestrian Side
CATEGORIES:Horse Show
CLASS:PUBLIC
END:VEVENT
END:VCALENDAR
