BEGIN:VCALENDAR
PRODID:-//AT Content Types//AT Event//EN
VERSION:2.0
METHOD:PUBLISH
BEGIN:VEVENT
DTSTAMP:20260423T131927Z
CREATED:20110401T213445Z
UID:ATEvent-078809a1bfea981ca89e4216fe918ff1
LAST-MODIFIED:20110401T213445Z
SUMMARY:Weekend Nature Hike
DTSTART:20110409T130000Z
DTEND:20110409T150000Z
DESCRIPTION:Ornithologist Simon Thompson leads a birding hike in the f
 irst of a new series of weekend nature hikes. Bring water and binocula
 rs.
LOCATION:FENCE Center Area/Hawk Ridge
CATEGORIES:Nature Program
CONTACT:828-859-9021\, natureeducation@fence.org
CLASS:PUBLIC
END:VEVENT
END:VCALENDAR
