BEGIN:VCALENDAR
PRODID:-//AT Content Types//AT Event//EN
VERSION:1.0
BEGIN:VEVENT
DTSTART:20120722T000000Z
DTEND:20120722T020000Z
DCREATED:20120124T143050Z
UID:ATEvent-1f3c689211bf4ab8b5ce22ec56b219d2
SEQUENCE:0
LAST-MODIFIED:20120417T141046Z
SUMMARY:Sunset Astronomy Sky Surfing
DESCRIPTION:FREE at Sunset\nThis event will be held on Hawk's Ridge wh
 ich is located behind the FENCE Center at the top of the hill
LOCATION:Hawk's Ridge *FENCE
PRIORITY:3
TRANSP:0
END:VEVENT
END:VCALENDAR
