BEGIN:VCALENDAR
PRODID:-//AT Content Types//AT Event//EN
VERSION:1.0
BEGIN:VEVENT
DTSTART:20080907T000000Z
DTEND:20080907T023000Z
DCREATED:20080623T184337Z
UID:ATEvent-6f7ef1e95db397bf1595de040f6a10e8
SEQUENCE:0
LAST-MODIFIED:20080623T184337Z
SUMMARY:Sept. 6 - Astronomy Program at sunset
DESCRIPTION:"Sunrise On The Moon"
LOCATION:FENCE Grounds
PRIORITY:3
TRANSP:0
END:VEVENT
END:VCALENDAR
