BEGIN:VCALENDAR
PRODID:-//AT Content Types//AT Event//EN
VERSION:1.0
BEGIN:VEVENT
DTSTART:20110904T000000Z
DTEND:20110904T030000Z
DCREATED:20110526T182059Z
UID:ATEvent-2f4ec0d15ba0b2e1afe5c7bb8e5b154a
SEQUENCE:0
LAST-MODIFIED:20110526T182059Z
SUMMARY:Sept. 3: Astronomy program at sunset
DESCRIPTION:Join the Foothills Astronomy Club for an outdoor program (
 weather permitting) viewing "Venus & Saturn". Telescopes provided for 
 those without. Program moves indoors in inclement weather.
LOCATION:Hawk Ridge
PRIORITY:3
TRANSP:0
END:VEVENT
END:VCALENDAR
