BEGIN:VCALENDAR
PRODID:-//AT Content Types//AT Event//EN
VERSION:1.0
BEGIN:VEVENT
DTSTART:20090914T140000Z
DTEND:20090914T150000Z
DCREATED:20081115T182129Z
UID:ATEvent-58233a57ae27585dd59d619421af88c1
SEQUENCE:0
LAST-MODIFIED:20081115T182129Z
SUMMARY:Sept. 14: Gardening Seminar\, 10am
DESCRIPTION:"Full Blooming Daylilies"\, with John Owenby of Fielding C
 antrell Gardens. Free program.
LOCATION:FENCE Center\, Great Room
PRIORITY:3
TRANSP:0
END:VEVENT
END:VCALENDAR
