BEGIN:VCALENDAR
PRODID:-//AT Content Types//AT Event//EN
VERSION:2.0
METHOD:PUBLISH
BEGIN:VEVENT
DTSTAMP:20260423T120351Z
CREATED:20091219T175516Z
UID:ATEvent-d794ef9944f4a36e70f356ae2400a240
LAST-MODIFIED:20091219T175516Z
SUMMARY:Sept. 13: Gardening Seminar\, 10am
DTSTART:20100913T140000Z
DTEND:20100913T160000Z
DESCRIPTION:"Repeating Daylilies & Irises"\, with John Owenby of Field
 ing Cantrell Gardens. Free program.
LOCATION:Great Room
CATEGORIES:Nature Program
CONTACT:828-859-9021\, info@fence.org
CLASS:PUBLIC
END:VEVENT
END:VCALENDAR
