BEGIN:VCALENDAR
PRODID:-//AT Content Types//AT Event//EN
VERSION:1.0
BEGIN:VEVENT
DTSTART:20090926T140000Z
DTEND:20090927T200000Z
DCREATED:20090817T190706Z
UID:ATEvent-5c44d46ef6e271f7d323b5ce3aaba2c6
SEQUENCE:0
LAST-MODIFIED:20090817T190944Z
SUMMARY:Sept 26/27: Wild Birds Unlimited Seed & Feeder Sale
LOCATION:FENCE Center
PRIORITY:3
TRANSP:0
END:VEVENT
END:VCALENDAR
