BEGIN:VCALENDAR
PRODID:-//AT Content Types//AT Event//EN
VERSION:2.0
METHOD:PUBLISH
BEGIN:VEVENT
DTSTAMP:20260423T063732Z
CREATED:20110526T182519Z
UID:ATEvent-f9fe25e399b068a08995936dfee36384
LAST-MODIFIED:20110526T182519Z
SUMMARY:Oct. 21: Foothills Astronomy Club monthly meeting
DTSTART:20111021T233000Z
DTEND:20111022T010000Z
DESCRIPTION:All welcome. Enter the FENCE Center at the back of the bui
 lding.
LOCATION:Great Room
CATEGORIES:Nature Program
CONTACT:Jim Cooper\, 828-859-8342
CLASS:PUBLIC
END:VEVENT
END:VCALENDAR
