BEGIN:VCALENDAR
PRODID:-//AT Content Types//AT Event//EN
VERSION:2.0
METHOD:PUBLISH
BEGIN:VEVENT
DTSTAMP:20260423T120220Z
CREATED:20081115T182244Z
UID:ATEvent-a3f18b3d554f2031b120d96067e18665
LAST-MODIFIED:20081115T182244Z
SUMMARY:Oct. 12: Gardening Seminar\, 10am
DTSTART:20091012T140000Z
DTEND:20091012T150000Z
DESCRIPTION:"A Holiday Decorating Garden"\, with landscape designer Rh
 onda Anderson. Free program
LOCATION:FENCE Center\, Great Room
CATEGORIES:Nature Program
CONTACT:828-859-9021\, info@fence.org
CLASS:PUBLIC
END:VEVENT
END:VCALENDAR
