BEGIN:VCALENDAR
PRODID:-//AT Content Types//AT Event//EN
VERSION:2.0
METHOD:PUBLISH
BEGIN:VEVENT
DTSTAMP:20260423T120220Z
CREATED:20091219T175636Z
UID:ATEvent-fcf42e95b19f5c3484c69887077b4a16
LAST-MODIFIED:20091219T175637Z
SUMMARY:Oct. 11: Gardening Seminar\, 10am
DTSTART:20101011T140000Z
DTEND:20101011T160000Z
DESCRIPTION:"Pansy Perfection"\, with landscape designer Rhonda Anders
 on. Free program.
LOCATION:Great Room
CATEGORIES:Nature Program
CONTACT:828-859-9021\, info@fence.org
CLASS:PUBLIC
END:VEVENT
END:VCALENDAR
