BEGIN:VCALENDAR
PRODID:-//AT Content Types//AT Event//EN
VERSION:2.0
METHOD:PUBLISH
BEGIN:VEVENT
DTSTAMP:20260421T084356Z
CREATED:20080623T184452Z
UID:ATEvent-6825cd183ec2c026cd4a6668baa7f30e
LAST-MODIFIED:20080623T184452Z
SUMMARY:Oct. 11 - Astronomy Program at sunset
DTSTART:20081005T003000Z
DTEND:20081005T023000Z
DESCRIPTION:"The Moon In Autumn"
LOCATION:FENCE Grounds
CATEGORIES:Nature Program
CONTACT:Jim Cooper\, 828-859-8342
CLASS:PUBLIC
END:VEVENT
END:VCALENDAR
