BEGIN:VCALENDAR
PRODID:-//AT Content Types//AT Event//EN
VERSION:2.0
METHOD:PUBLISH
BEGIN:VEVENT
DTSTAMP:20260423T132353Z
CREATED:20081115T182358Z
UID:ATEvent-48b3e6799ef9eeacc901351cb107f2d6
LAST-MODIFIED:20081115T182358Z
SUMMARY:Nov. 9: Gardening Seminar\, 10am
DTSTART:20091109T150000Z
DTEND:20091109T160000Z
DESCRIPTION:"Safe Plants For Your Horse"\, with Master Gardener Gretch
 en Verbonic. Free program.
LOCATION:FENCE Center\, Great Room
CATEGORIES:Nature Program
CONTACT:828-859-9021\, info@fence.org
CLASS:PUBLIC
END:VEVENT
END:VCALENDAR
