BEGIN:VCALENDAR
PRODID:-//AT Content Types//AT Event//EN
VERSION:1.0
BEGIN:VEVENT
DTSTART:20101108T150000Z
DTEND:20101108T170000Z
DCREATED:20091219T175802Z
UID:ATEvent-584c53e4f839e0685d92e9bd3d75b08e
SEQUENCE:0
LAST-MODIFIED:20091219T175802Z
SUMMARY:Nov. 8: Gardening Seminar\, 10am
DESCRIPTION:"Fall Weed Control"\, with Tim O'Shields of TNT Lawncare.
LOCATION:Great Room
PRIORITY:3
TRANSP:0
END:VEVENT
END:VCALENDAR
