BEGIN:VCALENDAR
PRODID:-//AT Content Types//AT Event//EN
VERSION:1.0
BEGIN:VEVENT
DTSTART:20111126T233000Z
DTEND:20111127T040000Z
DCREATED:20110526T182653Z
UID:ATEvent-ccdc38f578e25dd1bfcf8ab9f636489e
SEQUENCE:0
LAST-MODIFIED:20110526T182653Z
SUMMARY:Nov. 26: Astronomy program at sunset
DESCRIPTION:Join the Foothills Astronomy Club for an outdoor program (
 weather permitting) viewing "The Moons of Jupiter". Telescopes provide
 d for those without. Program moves indoors in inclement weather.
LOCATION:Hawk Ridge
PRIORITY:3
TRANSP:0
END:VEVENT
END:VCALENDAR
