BEGIN:VCALENDAR
PRODID:-//AT Content Types//AT Event//EN
VERSION:2.0
METHOD:PUBLISH
BEGIN:VEVENT
DTSTAMP:20260423T063850Z
CREATED:20110526T182812Z
UID:ATEvent-6d09caa7e3108abd51f1ad89962758d7
LAST-MODIFIED:20110526T182812Z
SUMMARY:Nov. 18: Foothills Astronomy Club monthly meeting
DTSTART:20111119T003000Z
DTEND:20111119T020000Z
DESCRIPTION:All welcome. Enter the FENCE Center at the back of the bui
 lding.
LOCATION:Great Room
CATEGORIES:Nature Program
CONTACT:Jim Cooper\, 828-859-8342
CLASS:PUBLIC
END:VEVENT
END:VCALENDAR
