BEGIN:VCALENDAR
PRODID:-//AT Content Types//AT Event//EN
VERSION:2.0
METHOD:PUBLISH
BEGIN:VEVENT
DTSTAMP:20260423T063258Z
CREATED:20081114T194424Z
UID:ATEvent-876adcaf4bbe7bfe05ab90ffd23438c0
LAST-MODIFIED:20081114T194424Z
SUMMARY:May 16: Astronomy Program at Sunset
DTSTART:20090516T233000Z
DTEND:20090517T030000Z
DESCRIPTION:Galaxies in Leo and Virgo. No rain date this month.
LOCATION:Hawk Ridge\, behind FENCE Center
CATEGORIES:Nature Program
CLASS:PUBLIC
END:VEVENT
END:VCALENDAR
