BEGIN:VCALENDAR
PRODID:-//AT Content Types//AT Event//EN
VERSION:2.0
METHOD:PUBLISH
BEGIN:VEVENT
DTSTAMP:20260423T100116Z
CREATED:20081114T194308Z
UID:ATEvent-6841c2db7ab8bd8695a45a5157ea1d74
LAST-MODIFIED:20081114T194308Z
SUMMARY:May 15: Foothills Astronomical Society Meeting
DTSTART:20090515T233000Z
DTEND:20090516T020000Z
LOCATION:FENCE Center Great Room
CATEGORIES:Nature Program
CLASS:PUBLIC
END:VEVENT
END:VCALENDAR
