BEGIN:VCALENDAR
PRODID:-//AT Content Types//AT Event//EN
VERSION:2.0
METHOD:PUBLISH
BEGIN:VEVENT
DTSTAMP:20260423T115824Z
CREATED:20091219T173017Z
UID:ATEvent-139d2478785ce6d087de98e5ff59a7ce
LAST-MODIFIED:20091219T173017Z
SUMMARY:May 15: Astronomy program at sunset
DTSTART:20100515T224500Z
DTEND:20100516T030000Z
DESCRIPTION:Venus\, Mars and Saturn all visible tonight. Meet at sunse
 t on Hawk Ridge\, behind the FENCE Center. No program if rain or heavy
  cloud cover. Telescopes provided.
LOCATION:Hawk Ridge
CATEGORIES:Nature/Astronomy
CONTACT:jim Cooper\, 828-859-8342
CLASS:PUBLIC
END:VEVENT
END:VCALENDAR
