BEGIN:VCALENDAR
PRODID:-//AT Content Types//AT Event//EN
VERSION:2.0
METHOD:PUBLISH
BEGIN:VEVENT
DTSTAMP:20260423T063625Z
CREATED:20081115T181834Z
UID:ATEvent-cccdd6b839da1fbd53e83e76873cd25d
LAST-MODIFIED:20081115T181834Z
SUMMARY:May 11: Gardening Seminar\, 10am
DTSTART:20090511T140000Z
DTEND:20090511T150000Z
DESCRIPTION:"Roses For The Lazy Gardener"\, with Paul Zimmerman of Ash
 down Roses. Free program.
LOCATION:FENCE Center\, Great Room
CATEGORIES:Nature Program
CONTACT:828-859-9021\, info@fence.org
CLASS:PUBLIC
END:VEVENT
END:VCALENDAR
