BEGIN:VCALENDAR
PRODID:-//AT Content Types//AT Event//EN
VERSION:2.0
METHOD:PUBLISH
BEGIN:VEVENT
DTSTAMP:20260423T100003Z
CREATED:20091219T175211Z
UID:ATEvent-e72a333889f3d00ec3a86b83ffd16317
LAST-MODIFIED:20091219T175211Z
SUMMARY:May 10: Gardening Seminar\, 10am
DTSTART:20100510T140000Z
DTEND:20100510T160000Z
DESCRIPTION:"English Gardens"\, with master gardener Linda Cobb.
LOCATION:Great Room
CATEGORIES:Nature Program
CONTACT:828-859-9021\, info@fence.org
CLASS:PUBLIC
END:VEVENT
END:VCALENDAR
