BEGIN:VCALENDAR
PRODID:-//AT Content Types//AT Event//EN
VERSION:2.0
METHOD:PUBLISH
BEGIN:VEVENT
DTSTAMP:20260423T063645Z
CREATED:20081115T181523Z
UID:ATEvent-115206befcb5f5a055204a64a5c9795f
LAST-MODIFIED:20081115T181523Z
SUMMARY:March 9: Gardening Seminar\, 10am
DTSTART:20090309T140000Z
DTEND:20090309T150000Z
DESCRIPTION:"Captivating Conifers"\, with Master Gardener Linda Cobb.
LOCATION:FENCE Center Great Room
CATEGORIES:Nature Program
CONTACT:828-859-9021\, info@fence.org
CLASS:PUBLIC
END:VEVENT
END:VCALENDAR
