BEGIN:VCALENDAR
PRODID:-//AT Content Types//AT Event//EN
VERSION:1.0
BEGIN:VEVENT
DTSTART:20100308T150000Z
DTEND:20100308T170000Z
DCREATED:20091219T173912Z
UID:ATEvent-c6ee995974ff2b5240674fe62b27b6e0
SEQUENCE:0
LAST-MODIFIED:20091219T174018Z
SUMMARY:March 8: Gardening Seminar\, 10am
DESCRIPTION:"Correct Pruning"\, with certified landscape manager Rhond
 a Anderson. Free program.
LOCATION:Great Room
PRIORITY:3
TRANSP:0
END:VEVENT
END:VCALENDAR
