BEGIN:VCALENDAR
PRODID:-//AT Content Types//AT Event//EN
VERSION:2.0
METHOD:PUBLISH
BEGIN:VEVENT
DTSTAMP:20260423T225254Z
CREATED:20081114T193946Z
UID:ATEvent-00423fcb3652f8ef4d740a5592d43e9d
LAST-MODIFIED:20081114T193946Z
SUMMARY:March 21: Astronomy Program at Sunset
DTSTART:20090321T223000Z
DTEND:20090322T030000Z
DESCRIPTION:Stars of the Spring Equinox. Rain date\, March 28.
LOCATION:Hawk Ridge\, behind FENCE Center
CATEGORIES:Nature Program
CLASS:PUBLIC
END:VEVENT
END:VCALENDAR
