BEGIN:VCALENDAR
PRODID:-//AT Content Types//AT Event//EN
VERSION:1.0
BEGIN:VEVENT
DTSTART:20090320T233000Z
DTEND:20090321T020000Z
DCREATED:20081114T193826Z
UID:ATEvent-78a8eba90c21e7bbe285e2660ae75761
SEQUENCE:0
LAST-MODIFIED:20081114T193826Z
SUMMARY:March 20: Foothills Astronomical Society Meeting
LOCATION:FENCE Center Great Room
PRIORITY:3
TRANSP:0
END:VEVENT
END:VCALENDAR
