BEGIN:VCALENDAR
PRODID:-//AT Content Types//AT Event//EN
VERSION:1.0
BEGIN:VEVENT
DTSTART:20100313T233000Z
DTEND:20100314T040000Z
DCREATED:20091219T172148Z
UID:ATEvent-cdc3e8a1a8bb7989fb044a63bfc5369b
SEQUENCE:0
LAST-MODIFIED:20091219T173654Z
SUMMARY:March 13: Astronomy Program at sunset
DESCRIPTION:Venus brightens the twilight skies. Meet at sunset on Hawk
  Ridge\, behind the FENCE Center. No program if rain or heavy cloud co
 ver. Telescopes provided. Offered in association with the Foothills As
 tronomical Society.
LOCATION:Hawk Ridge
PRIORITY:3
TRANSP:0
END:VEVENT
END:VCALENDAR
