BEGIN:VCALENDAR
PRODID:-//AT Content Types//AT Event//EN
VERSION:2.0
METHOD:PUBLISH
BEGIN:VEVENT
DTSTAMP:20260423T142636Z
CREATED:20120124T143543Z
UID:ATEvent-0354029d3544393b508f3e24c917478d
LAST-MODIFIED:20120417T135310Z
SUMMARY:Art Day Camp
DTSTART:20120730T120000Z
DTEND:20120803T160000Z
DESCRIPTION:Art Camp\nAges 5-12\n8:30am-12:30pm\nFees $100
LOCATION:FENCE Center
CATEGORIES:Childrens Day Camp
CONTACT:Tracie Hanson\, 828-859-9021\, natureeducation@fence.org
CLASS:PUBLIC
END:VEVENT
END:VCALENDAR
