BEGIN:VCALENDAR
PRODID:-//AT Content Types//AT Event//EN
VERSION:2.0
METHOD:PUBLISH
BEGIN:VEVENT
DTSTAMP:20260423T155100Z
CREATED:20080915T122636Z
UID:ATEvent-4c18b4bae8c8d00d4e7957ff4e4bdd81
LAST-MODIFIED:20080915T142428Z
SUMMARY:Nov. 1 Kids @ FENCE Fall Festival
DTSTART:20081101T160000Z
DTEND:20081101T210000Z
DESCRIPTION:Kids @ FENCE Fall Festival is an annual fundraiser for the
  FENCE nature & science education program – Project FENCE (Friends E
 njoying Nature Chemistry and the Environment).
CATEGORIES:Nature Program
CONTACT:Tracie Hanson\, 828-859-9021\, natureeducation@fence.org
CLASS:PUBLIC
END:VEVENT
END:VCALENDAR
