BEGIN:VCALENDAR
PRODID:-//AT Content Types//AT Event//EN
VERSION:1.0
BEGIN:VEVENT
DTSTART:20120723T120000Z
DTEND:20120727T210000Z
DCREATED:20120124T143331Z
UID:ATEvent-aa76950ca1af34d6a3533324aaaa9852
SEQUENCE:0
LAST-MODIFIED:20120417T135258Z
SUMMARY:Environmental Day Camp
DESCRIPTION:Kids 5 to 12 All day camp\nFees $150\nTimes: 8am-5pm daily
 
LOCATION:FENCE Center
PRIORITY:3
TRANSP:0
END:VEVENT
END:VCALENDAR
