BEGIN:VCALENDAR
PRODID:-//AT Content Types//AT Event//EN
VERSION:1.0
BEGIN:VEVENT
DTSTART:20090608T140000Z
DTEND:20090608T150000Z
DCREATED:20081115T182012Z
UID:ATEvent-0ec4d2d551b109a4c085037919a31ad7
SEQUENCE:0
LAST-MODIFIED:20081115T182013Z
SUMMARY:June 8: Gardening Seminar\, 10am
DESCRIPTION:"Hot and Happy Hydrangeas"\, with landscape manager Rhonda
  Anderson. Free program.
LOCATION:FENCE Center\, Great Room
PRIORITY:3
TRANSP:0
END:VEVENT
END:VCALENDAR
