BEGIN:VCALENDAR
PRODID:-//AT Content Types//AT Event//EN
VERSION:2.0
METHOD:PUBLISH
BEGIN:VEVENT
DTSTAMP:20260420T193230Z
CREATED:20091219T192556Z
UID:ATEvent-87cfe52f24023991bd96c41397fe77a7
LAST-MODIFIED:20091219T194621Z
SUMMARY:June 21 - 25: FENCE Summer Day Camp
DTSTART:20100621T123000Z
DTEND:20100625T163000Z
DESCRIPTION:Intermediate Horse Camp\, 8:30am-12:30pm. Campers must hav
 e attended at least one session of Beginner's Horse Camp. For ages 8-1
 2.
LOCATION:FENCE Grounds
CATEGORIES:Childrens Day Camp
CONTACT:Tracie Hanson\, 828-859-9021\, natureeducation@fence.org
URL:http://www.fence.org/Camps
CLASS:PUBLIC
END:VEVENT
END:VCALENDAR
