BEGIN:VCALENDAR
PRODID:-//AT Content Types//AT Event//EN
VERSION:2.0
METHOD:PUBLISH
BEGIN:VEVENT
DTSTAMP:20260423T132944Z
CREATED:20091219T173619Z
UID:ATEvent-75ae4a1f8d2ea98a46ff94497694be77
LAST-MODIFIED:20091219T173619Z
SUMMARY:June 18: Foothills Astronomical Society meeting
DTSTART:20100618T233000Z
DTEND:20100619T010000Z
DESCRIPTION:Meets at 7:30 in the FENCE Center. Enter through rear of b
 uilding. Public welcome.
LOCATION:Great Room
CATEGORIES:Nature/Astronomy
CONTACT:jim Cooper\, 828-859-8342
CLASS:PUBLIC
END:VEVENT
END:VCALENDAR
