BEGIN:VCALENDAR
PRODID:-//AT Content Types//AT Event//EN
VERSION:2.0
METHOD:PUBLISH
BEGIN:VEVENT
DTSTAMP:20260423T072443Z
CREATED:20091219T175333Z
UID:ATEvent-fb220376486911ae64a33ec66032afb0
LAST-MODIFIED:20091219T175333Z
SUMMARY:June 14: Gardening Seminar\, 10am
DTSTART:20100614T140000Z
DTEND:20100614T160000Z
DESCRIPTION:"Container Gardens"\, with Ann Carter of A Growing Concern
  nursery.
LOCATION:great Room
CATEGORIES:Nature Program
CONTACT:828-859-9021\, info@fence.org
CLASS:PUBLIC
END:VEVENT
END:VCALENDAR
