BEGIN:VCALENDAR
PRODID:-//AT Content Types//AT Event//EN
VERSION:1.0
BEGIN:VEVENT
DTSTART:20100614T123000Z
DTEND:20100618T163000Z
DCREATED:20091219T192230Z
UID:ATEvent-c2a98658a4e67f46b3c88b42ffd82305
SEQUENCE:0
LAST-MODIFIED:20091219T194536Z
SUMMARY:June 14 - 18: FENCE Summer Day Camp
DESCRIPTION:Beginner Horse Camp\, from 8:30am-12:30pm. For ages 8-12.
LOCATION:FENCE Grounds
PRIORITY:3
TRANSP:0
END:VEVENT
END:VCALENDAR
