BEGIN:VCALENDAR
PRODID:-//AT Content Types//AT Event//EN
VERSION:1.0
BEGIN:VEVENT
DTSTART:20090613T233000Z
DTEND:20090614T030000Z
DCREATED:20081114T194657Z
UID:ATEvent-b133dea7a96070b0a07617b1d75848ea
SEQUENCE:0
LAST-MODIFIED:20081114T194657Z
SUMMARY:June 13: Astronomy Program at Sunset
DESCRIPTION:Stars of the summer solstice. Rain date\, June 20.
LOCATION:Hawk Ridge\, behind FENCE Center
PRIORITY:3
TRANSP:0
END:VEVENT
END:VCALENDAR
