BEGIN:VCALENDAR
PRODID:-//AT Content Types//AT Event//EN
VERSION:1.0
BEGIN:VEVENT
DTSTART:20090612T233000Z
DTEND:20090613T020000Z
DCREATED:20081114T194532Z
UID:ATEvent-29245ad49e9efa1efba7cb5d2642b5ad
SEQUENCE:0
LAST-MODIFIED:20081114T194532Z
SUMMARY:June 12: Foothills Astronomical Society Meeting
LOCATION:FENCE Center Great Room
PRIORITY:3
TRANSP:0
END:VEVENT
END:VCALENDAR
