BEGIN:VCALENDAR
PRODID:-//AT Content Types//AT Event//EN
VERSION:2.0
METHOD:PUBLISH
BEGIN:VEVENT
DTSTAMP:20260423T191421Z
CREATED:20091219T173435Z
UID:ATEvent-f1ee4a628cb351457ec39e900b09e0e3
LAST-MODIFIED:20091219T173435Z
SUMMARY:June 12: Astronomy program at sunset
DTSTART:20100612T230000Z
DTEND:20100613T030000Z
DESCRIPTION:A preview of summer stars and the Milky Way. Meet at sunse
 t on Hawk Ridge\, behind the FENCE Center. No program if rain or heavy
  cloud cover. Telescopes provided. Offered in association with the Foo
 thills Astronomical Society.
LOCATION:Hawk Ridge
CATEGORIES:Nature/Astronomy
CONTACT:jim Cooper\, 828-859-8342
CLASS:PUBLIC
END:VEVENT
END:VCALENDAR
