BEGIN:VCALENDAR
PRODID:-//AT Content Types//AT Event//EN
VERSION:2.0
METHOD:PUBLISH
BEGIN:VEVENT
DTSTAMP:20260420T173156Z
CREATED:20091219T192922Z
UID:ATEvent-5f906127e63b66ff25435cfc47b7d555
LAST-MODIFIED:20091219T195044Z
SUMMARY:July 5 -9: FENCE Summer Day Camp
DTSTART:20100707T123000Z
DTEND:20100711T163000Z
DESCRIPTION:Nature and Earth Camp. Learn about plants and animals that
  make FENCE their home. Morning camp\, for ages 5-12.
LOCATION:FENCE Grounds
CATEGORIES:Childrens Day Camp
CONTACT:Tracie Hanson\, 828-859-9021\, natureeducation@fence.org
URL:http://www.fence.org/Camps
CLASS:PUBLIC
END:VEVENT
END:VCALENDAR
