BEGIN:VCALENDAR
PRODID:-//AT Content Types//AT Event//EN
VERSION:1.0
BEGIN:VEVENT
DTSTART:20080706T000000Z
DTEND:20080706T023000Z
DCREATED:20080623T184112Z
UID:ATEvent-6cd14ee17de7d58c89a7fdc1a1a68b61
SEQUENCE:0
LAST-MODIFIED:20080623T184112Z
SUMMARY:July 5 - Astronomy Program at sunset
DESCRIPTION:"The Stars of Summer"
LOCATION:FENCE Grounds
PRIORITY:3
TRANSP:0
END:VEVENT
END:VCALENDAR
