BEGIN:VCALENDAR
PRODID:-//AT Content Types//AT Event//EN
VERSION:1.0
BEGIN:VEVENT
DTSTART:20100726T120000Z
DTEND:20100731T210000Z
DCREATED:20091219T193701Z
UID:ATEvent-9edbaaabd26eb0530c4bb8227d6080ab
SEQUENCE:0
LAST-MODIFIED:20091219T193701Z
SUMMARY:July 26 - 31: Junior Master Naturalist Program
DESCRIPTION:For high school students. A week-long version of our Maste
 r Naturalist certification program for adults.
PRIORITY:3
TRANSP:0
END:VEVENT
END:VCALENDAR
