BEGIN:VCALENDAR
PRODID:-//AT Content Types//AT Event//EN
VERSION:1.0
BEGIN:VEVENT
DTSTART:20100719T120000Z
DTEND:20100724T210000Z
DCREATED:20091219T193448Z
UID:ATEvent-04c14b98554b90941a2b2adde8ad86fe
SEQUENCE:0
LAST-MODIFIED:20100607T153732Z
SUMMARY:July 19 - 23: FENCE Art Camp
LOCATION:FENCE Grounds
PRIORITY:3
TRANSP:0
END:VEVENT
END:VCALENDAR
