BEGIN:VCALENDAR
PRODID:-//AT Content Types//AT Event//EN
VERSION:2.0
METHOD:PUBLISH
BEGIN:VEVENT
DTSTAMP:20260423T192113Z
CREATED:20110526T181539Z
UID:ATEvent-6915ea2ed845254777d5aea7cc9c7215
LAST-MODIFIED:20110526T181800Z
SUMMARY:July 15: Foothills Astronomy Club monthly meeting
DTSTART:20110715T233000Z
DTEND:20110716T010000Z
DESCRIPTION:All invited. Enter the FENCE Center through the back of th
 e building.
LOCATION:Great Room
CATEGORIES:Nature Program
CONTACT:Jim Cooper\, 828-859-8342
CLASS:PUBLIC
END:VEVENT
END:VCALENDAR
