BEGIN:VCALENDAR
PRODID:-//AT Content Types//AT Event//EN
VERSION:2.0
METHOD:PUBLISH
BEGIN:VEVENT
DTSTAMP:20260420T193444Z
CREATED:20091219T193248Z
UID:ATEvent-91a82ca322c25d7cf5fe256239686e48
LAST-MODIFIED:20091219T194704Z
SUMMARY:July 12 - 16: FENCE Summer Day Camp
DTSTART:20100712T120000Z
DTEND:20100716T210000Z
DESCRIPTION:ALL DAY CAMP\, 8am to 5pm. Includes natural history activi
 ties\, photography and survival skills. For ages 6-12.
LOCATION:FENCE Grounds
CATEGORIES:Childrens Day Camp
CONTACT:Tracie Hanson\, 828-859-9021\, natureeducation@fence.org
URL:http://www.fence.org/Camps
CLASS:PUBLIC
END:VEVENT
END:VCALENDAR
