BEGIN:VCALENDAR
PRODID:-//AT Content Types//AT Event//EN
VERSION:1.0
BEGIN:VEVENT
DTSTART:20090117T233000Z
DTEND:20090118T040000Z
DCREATED:20081114T193441Z
UID:ATEvent-efe909e30b4197ebd9058cc568b288b5
SEQUENCE:0
LAST-MODIFIED:20081114T193441Z
SUMMARY:Jan 17: Astronomy Program at Sunset
DESCRIPTION:The Orion Nebula Star Factory. Rain date\, Jan 24
LOCATION:Hawk Ridge\, behind FENCE Center
PRIORITY:3
TRANSP:0
END:VEVENT
END:VCALENDAR
