BEGIN:VCALENDAR
PRODID:-//AT Content Types//AT Event//EN
VERSION:2.0
METHOD:PUBLISH
BEGIN:VEVENT
DTSTAMP:20260423T191853Z
CREATED:20081114T193204Z
UID:ATEvent-ec0cd3be2da343a62eb2952f7d607c9c
LAST-MODIFIED:20081114T193310Z
SUMMARY:Jan 16: Foothills Astronomical Society Meeting
DTSTART:20090117T003000Z
DTEND:20090117T030000Z
CATEGORIES:Nature Program
CLASS:PUBLIC
END:VEVENT
END:VCALENDAR
