BEGIN:VCALENDAR
PRODID:-//AT Content Types//AT Event//EN
VERSION:1.0
BEGIN:VEVENT
DTSTART:20100116T230000Z
DTEND:20100117T040000Z
DCREATED:20091219T165749Z
UID:ATEvent-da55443602d139e999618e336281e845
SEQUENCE:0
LAST-MODIFIED:20091219T165749Z
SUMMARY:Jan 16: Astronomy Program at sunset
DESCRIPTION:Planet Mars shines at its brightest this month. Meet on Ha
 wk Ridge\, behind the FENCE Center. No program if rain or heavy cloud 
 cover. Telescopes provided. Offered in association with the Foothills 
 Astronomical Society.
LOCATION:Hawk Ridge
PRIORITY:3
TRANSP:0
END:VEVENT
END:VCALENDAR
