BEGIN:VCALENDAR
PRODID:-//AT Content Types//AT Event//EN
VERSION:1.0
BEGIN:VEVENT
DTSTART:20100116T003000Z
DTEND:20100116T020000Z
DCREATED:20091219T171544Z
UID:ATEvent-4d6c65e2c766a71af646fa0fdf806008
SEQUENCE:0
LAST-MODIFIED:20091219T171544Z
SUMMARY:Jan . 15: Foothills Astronomical Society meeting
DESCRIPTION:Meets at 7:30 in the FENCE Center. Enter through back of b
 uilding. Public welcome.
LOCATION:Great Room
PRIORITY:3
TRANSP:0
END:VEVENT
END:VCALENDAR
