BEGIN:VCALENDAR
PRODID:-//AT Content Types//AT Event//EN
VERSION:1.0
BEGIN:VEVENT
DTSTART:20110624T123000Z
DTEND:20110624T163000Z
DCREATED:20110427T172654Z
UID:ATEvent-4635ed2d5de2277979ca316440c2c891
SEQUENCE:0
LAST-MODIFIED:20110427T181833Z
SUMMARY:Intermediate Horse Camp
DESCRIPTION:Camp is daily from 8:30 AM to 12:30 PM June 20-24\n\nAGES 
 (8-12) (8:30-12:30) $150.00\nMUST HAVE ATTENDED AT LEAST ONE SESSION O
 F BEGINNERS\nHORSE CAMP OR CONTACT FENCE FOR APPROVAL\nLimited to 25 C
 ampers
LOCATION:FENCE House
PRIORITY:3
TRANSP:0
END:VEVENT
END:VCALENDAR
