BEGIN:VCALENDAR
PRODID:-//AT Content Types//AT Event//EN
VERSION:2.0
METHOD:PUBLISH
BEGIN:VEVENT
DTSTAMP:20260423T120103Z
CREATED:20120119T191909Z
UID:ATEvent-4a0e7ed328db5b725c5a36fd6694bae5
LAST-MODIFIED:20120119T191909Z
SUMMARY:Go Fly A Kite
DTSTART:20120311T170000Z
DTEND:20120311T200000Z
DESCRIPTION:Free
LOCATION:Hawk's Ridge *FENCE
CATEGORIES:Family
CONTACT:Tracie Hanson\, 828-859-9021\, nature@fence.org
CLASS:PUBLIC
END:VEVENT
END:VCALENDAR
