BEGIN:VCALENDAR
PRODID:-//AT Content Types//AT Event//EN
VERSION:2.0
METHOD:PUBLISH
BEGIN:VEVENT
DTSTAMP:20260423T142636Z
CREATED:20120124T143811Z
UID:ATEvent-4f7135ba63e25ee562bd6b4d2e74a25f
LAST-MODIFIED:20120827T152346Z
SUMMARY:Gardening Seminar
DTSTART:20120910T140000Z
DTEND:20120910T150000Z
DESCRIPTION:Fall Pruning Workshop\n\nAdmittance: Free
LOCATION:Great Room\, FENCE House
CATEGORIES:Nature Program
CONTACT:Tracie Hanson\, 828-859-9021\, natureeducation@fence.org
CLASS:PUBLIC
END:VEVENT
END:VCALENDAR
